BEGIN:VCALENDAR
VERSION:2.0
PRODID:-//San Antonio Irrigation Association - ECPv6.14.2//NONSGML v1.0//EN
CALSCALE:GREGORIAN
METHOD:PUBLISH
X-WR-CALNAME:San Antonio Irrigation Association
X-ORIGINAL-URL:http://sanantonioia.org
X-WR-CALDESC:Events for San Antonio Irrigation Association
REFRESH-INTERVAL;VALUE=DURATION:PT1H
X-Robots-Tag:noindex
X-PUBLISHED-TTL:PT1H

BEGIN:VEVENT
DTSTART;TZID=America/Chicago:20260423T142309
DTEND;TZID=America/Chicago:20231008T000000
DTSTAMP:20260423T142309
CREATED:20240208T023032Z
LAST-MODIFIED:20240208T023032Z
UID:1785-0-1696723200@sanantonioia.org
SUMMARY:San Antonio Home and Garden Show
DESCRIPTION:Dates & Hours for 2023\nFriday\, October 6              12:00 pm – 8:00 pm\nSaturday\, October 7         10:00 am – 8:00 pm\nSunday\,  October 8           11:00 am – 6:00 pm \nhttps://www.sanantoniofallhomeshow.com/ \n 
URL:http://sanantonioia.org/event/san-antonio-home-and-garden-show/
ATTACH;FMTTYPE=image/jpeg:http://sanantonioia.org/wp-content/uploads/2023/09/San-Antonio-Home-and-Garden-Logo.jpg
END:VEVENT
END:VCALENDAR