BEGIN:VCALENDAR
VERSION:2.0
PRODID:-//San Antonio Irrigation Association - ECPv6.14.2//NONSGML v1.0//EN
CALSCALE:GREGORIAN
METHOD:PUBLISH
X-WR-CALNAME:San Antonio Irrigation Association
X-ORIGINAL-URL:http://sanantonioia.org
X-WR-CALDESC:Events for San Antonio Irrigation Association
REFRESH-INTERVAL;VALUE=DURATION:PT1H
X-Robots-Tag:noindex
X-PUBLISHED-TTL:PT1H

BEGIN:VEVENT
DTSTART;TZID=America/Chicago:20220226T080000
DTEND;TZID=America/Chicago:20220226T180000
DTSTAMP:20260420T022334
CREATED:20240208T023119Z
LAST-MODIFIED:20240208T023119Z
UID:1810-1645862400-1645898400@sanantonioia.org
SUMMARY:STILE (South Texas Irrigation & Landscape Expo) – 2022
DESCRIPTION:La Quinta Inn & Suites Medical Center NW / Conference & Event Center\n4431 Horizon Hill\,\nSan Antonio\, TX 78229\n \nContact us at info@sanantonioia.org or 210-381-4727 for more information.\n 
URL:http://sanantonioia.org/event/stile-south-texas-irrigation-landscape-expo-2022/
END:VEVENT
BEGIN:VEVENT
DTSTART;TZID=America/Chicago:20220222T173000
DTEND;TZID=America/Chicago:20220222T210000
DTSTAMP:20260420T022334
CREATED:20240208T023119Z
LAST-MODIFIED:20240208T023119Z
UID:1808-1645551000-1645563600@sanantonioia.org
SUMMARY:In-Person Membership Meeting
DESCRIPTION:Membership Meeting information:  CEU Information:\n*Each attendee MUST register individually and pay through link provided under “Sponsors & CEU’s” in SAIA webpage.\n*$25 Member Cost includes 2 hours of CEU credit for licensed irrigators and technicians.\n*$125 Non-Member Cost includes 2 hours of CEU credit for licensed irrigators and technicians.\n*Dinner will be provided at 6:00pm.\n*2-Hour CEU presentation DJ Seeger on “From Irrigation to Water Management”.
URL:http://sanantonioia.org/event/in-person-membership-meeting/
END:VEVENT
BEGIN:VEVENT
DTSTART;TZID=America/Chicago:20220125T173000
DTEND;TZID=America/Chicago:20220125T210000
DTSTAMP:20260420T022334
CREATED:20240208T023119Z
LAST-MODIFIED:20240208T023119Z
UID:1809-1643131800-1643144400@sanantonioia.org
SUMMARY:In-Person Membership Meeting
DESCRIPTION:Membership Meeting information:  CEU Information:\n*Each attendee MUST register individually and pay through link provided under “Sponsors & CEU’s” in SAIA webpage.\n*$25 Member Cost includes 2 hours of CEU credit for licensed irrigators and technicians.\n*$125 Non-Member Cost includes 2 hours of CEU credit for licensed irrigators and technicians.\n*Dinner will be provided at 5:30pm.\n*2-Hour CEU presentation by Preston Swor\, Netafim
URL:http://sanantonioia.org/event/in-person-membership-meeting-2/
END:VEVENT
BEGIN:VEVENT
DTSTART;TZID=America/Chicago:20211026T173000
DTEND;TZID=America/Chicago:20211026T210000
DTSTAMP:20260420T022334
CREATED:20240208T023133Z
LAST-MODIFIED:20240208T023133Z
UID:1811-1635269400-1635282000@sanantonioia.org
SUMMARY:In-Person Membership Meeting
DESCRIPTION:Membership Meeting information:  CEU Information:\n*Each attendee MUST register individually and pay through link provided under “news tab” in SAIA webpage.\n*Your $25 includes 2 hours of CEU credit for licensed irrigators and technicians.\n*Dinner will be provided at 5:30pm.\n*2-Hour CEU presentation on “PUMPS” by Ryan Hurst from Hugh Cunningham \nFlowControlGroup – Texas \n\n  \n 
URL:http://sanantonioia.org/event/in-person-membership-meeting-3/
LOCATION:Embassy Suites\, 7750 Briarridge Dr\, san antonio\, TX\, 78230\, United States
END:VEVENT
BEGIN:VEVENT
DTSTART;TZID=America/Chicago:20210831T173000
DTEND;TZID=America/Chicago:20210831T210000
DTSTAMP:20260420T022334
CREATED:20240208T023133Z
LAST-MODIFIED:20240208T023133Z
UID:1812-1630431000-1630443600@sanantonioia.org
SUMMARY:In-Person Membership Meeting
DESCRIPTION: Membership Meeting information:\n  CEU Information: \n*Each attendee MUST register individually and pay through link provided under “news tab” in SAIA webpage. \n*Your $25 includes 2 hours of CEU credit for licensed irrigators and technicians. \n*Dinner will be provided at 5:30pm. \n*2-Hour CEU presentation on “Efficient Irrigation” by Trey Vann will begin at 6:30pm. \n  \n  \n  \n  \n  \n  \n 
URL:http://sanantonioia.org/event/in-person-membership-meeting-4/
LOCATION:Embassy Suites\, 7750 Briarridge Dr\, san antonio\, TX\, 78230\, United States
END:VEVENT
BEGIN:VEVENT
DTSTART;TZID=America/Chicago:20210727T180000
DTEND;TZID=America/Chicago:20210727T210000
DTSTAMP:20260420T022334
CREATED:20240208T023134Z
LAST-MODIFIED:20240208T023134Z
UID:1813-1627408800-1627419600@sanantonioia.org
SUMMARY:In-Person Membership Meeting
DESCRIPTION: Membership Meeting information:  CEU Information:\n*Each attendee MUST register individually and pay through Eventbrite.\n*Your $25 includes 2 hours of CEU credit for licensed irrigators and technicians\, and dinner from Schlotzky’s.\n*2-Hour CEU presentation on “Woulda\, Coulda\, Shoulda: What Backflow Testers Need to Know About Legal Liability\, Presented by Katrina Hamrick\n \n \n \n \n \n 
URL:http://sanantonioia.org/event/in-person-membership-meeting-5/
LOCATION:Embassy Suites\, 7750 Briarridge Dr\, san antonio\, TX\, 78230\, United States
END:VEVENT
BEGIN:VEVENT
DTSTART;TZID=America/Chicago:20210629T180000
DTEND;TZID=America/Chicago:20210629T210000
DTSTAMP:20260420T022334
CREATED:20240208T023134Z
LAST-MODIFIED:20240208T023134Z
UID:1814-1624989600-1625000400@sanantonioia.org
SUMMARY:In-Person Membership Meeting
DESCRIPTION: Membership Meeting information:  CEU Information:\n*Each attendee MUST register individually and pay through Eventbrite.\n*Your $25 includes 2 hours of CEU credit for licensed irrigators and technicians\, and dinner from Schlotzky’s.\n*2-Hour CEU presentation on “Solvent Weld Application & Technical Information” by Dwight Mains\, Spears.\n \nEventbrite Event Link: Registration is open now\nhttps://www.eventbrite.com/e/saia-june-membership-meeting-with-in-person-2-hour-ceu-class-tickets-159854530203\n \n \n \n \n 
URL:http://sanantonioia.org/event/in-person-membership-meeting-6/
LOCATION:Embassy Suites\, 7750 Briarridge Dr\, san antonio\, TX\, 78230\, United States
END:VEVENT
BEGIN:VEVENT
DTSTART;TZID=America/Chicago:20210525T180000
DTEND;TZID=America/Chicago:20210525T210000
DTSTAMP:20260420T022334
CREATED:20240208T023134Z
LAST-MODIFIED:20240208T023134Z
UID:1815-1621965600-1621976400@sanantonioia.org
SUMMARY:In-Person Membership Meeting
DESCRIPTION: Membership Meeting information:  CEU Information:\n*Each attendee MUST register individually and pay through Eventbrite.\n*Your $25 includes 2 hours of CEU credit for licensed irrigators and technicians\, and dinner from Schlotzky’s.\n*2-Hour CEU presentation on “Soils\, Mulch\, and Compost” by Trevor Broyles.\n**Social Distancing will be enforced**\n**A face covering is required by the venue while indoors\, except while eating**\n \n \nEventbrite Event Link: Registration is now open \nhttps://www.eventbrite.com/e/saia-may-membership-meeting-with-in-person-2-hour-ceu-class-tickets-154764012327\n \n 
URL:http://sanantonioia.org/event/in-person-membership-meeting-7/
LOCATION:Embassy Suites\, 7750 Briarridge Dr\, san antonio\, TX\, 78230\, United States
END:VEVENT
BEGIN:VEVENT
DTSTART;TZID=America/Chicago:20210427T180000
DTEND;TZID=America/Chicago:20210427T200000
DTSTAMP:20260420T022334
CREATED:20240208T023148Z
LAST-MODIFIED:20240208T023148Z
UID:1816-1619546400-1619553600@sanantonioia.org
SUMMARY:In-Person Membership Meeting
DESCRIPTION: Membership Meeting information:\nNo CEU’s\, Round-table discussion of industry-specific topics\, moderated by the Board of Directors\n*Each attendee MUST register individually through Eventbrite.\n*Seats are limited.\n*Dinner will be served from Schlotzky’s.\n*Round-table discussion of industry-specific topics\, moderated by the Board of Directors \n*Social Distancing will be enforced\n*A face covering is required by the venue while indoors\, except while eating\n*Hand sanitizers will be provided. \n \nEventbrite Event Link below: Registration closes on Monday at 4:00pm\nhttps://www.eventbrite.com/e/saia-april-membership-meeting-round-table-discussion-no-ceus-tickets-151655424457\n 
URL:http://sanantonioia.org/event/in-person-membership-meeting-8/
LOCATION:Embassy Suites\, 7750 Briarridge Dr\, san antonio\, TX\, 78230\, United States
END:VEVENT
BEGIN:VEVENT
DTSTART;TZID=America/Chicago:20201229T173000
DTEND;TZID=America/Chicago:20201229T210000
DTSTAMP:20260420T022334
CREATED:20240208T023149Z
LAST-MODIFIED:20240208T023149Z
UID:1817-1609263000-1609275600@sanantonioia.org
SUMMARY:December CUE’s and Meeting cancelled
DESCRIPTION:CEU’s will be cancelled for the month of December
URL:http://sanantonioia.org/event/december-cues-and-meeting-cancelled/
END:VEVENT
BEGIN:VEVENT
DTSTART;TZID=America/Chicago:20200331T173000
DTEND;TZID=America/Chicago:20200331T210000
DTSTAMP:20260420T022334
CREATED:20240208T023149Z
LAST-MODIFIED:20240208T023149Z
UID:1820-1585675800-1585688400@sanantonioia.org
SUMMARY:SAIA General Membership Meeting
DESCRIPTION:SAIA Monthly Membership Meeting  March 31\, 2020\nEmbassy Suites Northwest\n7750 Briaridge Dr. \nSan Antonio\, Texas 78230  
URL:http://sanantonioia.org/event/saia-general-membership-meeting/
LOCATION:Embassy Suites\, 7750 Briarridge Dr\, san antonio\, TX\, 78230\, United States
END:VEVENT
BEGIN:VEVENT
DTSTART;TZID=America/Chicago:20200314T090000
DTEND;TZID=America/Chicago:20200314T130000
DTSTAMP:20260420T022334
CREATED:20240208T023149Z
LAST-MODIFIED:20240208T023149Z
UID:1819-1584176400-1584190800@sanantonioia.org
SUMMARY:SAWS – Spring Bloom
DESCRIPTION:Check out SAWS website for more information.First 1\,000 guests receive a free plant!\nhttps://www.saws.org/discover-your-garden-style-at-spring-bloom/\n \n \n \n \n \n 
URL:http://sanantonioia.org/event/saws-spring-bloom/
END:VEVENT
BEGIN:VEVENT
DTSTART;TZID=America/Chicago:20190925T173000
DTEND;TZID=America/Chicago:20190925T210000
DTSTAMP:20260420T022334
CREATED:20190911T172722Z
LAST-MODIFIED:20190911T172722Z
UID:63-1569432600-1569445200@sanantonioia.org
SUMMARY:SAIA September Meeting
DESCRIPTION:
URL:http://sanantonioia.org/event/saia-september-meeting/
LOCATION:Embassy Suites\, 7750 Briarridge Dr\, san antonio\, TX\, 78230\, United States
END:VEVENT
BEGIN:VEVENT
DTSTART;TZID=America/Chicago:20260420T022334
DTEND;TZID=America/Chicago:20201028T000000
DTSTAMP:20260420T022334
CREATED:20240208T023149Z
LAST-MODIFIED:20240208T023149Z
UID:1818-0-1603843200@sanantonioia.org
SUMMARY:Due to COVID -19 pandemic – CUE’s cancelled
DESCRIPTION:Due to the COVID-19 pandemic CEU’s will be cancelled for the month of October. 
URL:http://sanantonioia.org/event/due-to-covid-19-pandemic-cues-cancelled/
END:VEVENT
BEGIN:VEVENT
DTSTART;TZID=America/Chicago:20260420T022334
DTEND;TZID=America/Chicago:20221002T000000
DTSTAMP:20260420T022334
CREATED:20240208T023103Z
LAST-MODIFIED:20240208T023103Z
UID:1802-0-1664668800@sanantonioia.org
SUMMARY:San Antonio Fall Home and Garden Show
DESCRIPTION:Come join us at the San Antonio Fall Home & Garden Show at Booth 561.Save $2.00 when you buy a ticket online.\nhttps://sanantoniofallhomeshow.mpetickets.com/\n \n \n 
URL:http://sanantonioia.org/event/san-antonio-fall-home-and-garden-show/
LOCATION:The Alamodome\, 100 Montana St.\, san antonio\, TX\, 78203\, United States
END:VEVENT
BEGIN:VEVENT
DTSTART;TZID=America/Chicago:20260420T022334
DTEND;TZID=America/Chicago:20231201T000000
DTSTAMP:20260420T022334
CREATED:20240208T023033Z
LAST-MODIFIED:20240208T023033Z
UID:1786-0-1701388800@sanantonioia.org
SUMMARY:2023 Irrigation Show & Education Week
DESCRIPTION:2023 Irrigation Show
URL:http://sanantonioia.org/event/2023-irrigation-show-education-week/
LOCATION:San Antonio Convention Center\, 900 E Market St\, San Antonio\, TX 78205\, San Antonio\, TX\, 78205\, United States
END:VEVENT
BEGIN:VEVENT
DTSTART;TZID=America/Chicago:20260420T022334
DTEND;TZID=America/Chicago:20231008T000000
DTSTAMP:20260420T022334
CREATED:20240208T023032Z
LAST-MODIFIED:20240208T023032Z
UID:1785-0-1696723200@sanantonioia.org
SUMMARY:San Antonio Home and Garden Show
DESCRIPTION:Dates & Hours for 2023\nFriday\, October 6              12:00 pm – 8:00 pm\nSaturday\, October 7         10:00 am – 8:00 pm\nSunday\,  October 8           11:00 am – 6:00 pm \nhttps://www.sanantoniofallhomeshow.com/ \n 
URL:http://sanantonioia.org/event/san-antonio-home-and-garden-show/
ATTACH;FMTTYPE=image/jpeg:http://sanantonioia.org/wp-content/uploads/2023/09/San-Antonio-Home-and-Garden-Logo.jpg
END:VEVENT
END:VCALENDAR