BEGIN:VCALENDAR
VERSION:2.0
PRODID:-//San Antonio Irrigation Association - ECPv6.14.2//NONSGML v1.0//EN
CALSCALE:GREGORIAN
METHOD:PUBLISH
X-ORIGINAL-URL:http://sanantonioia.org
X-WR-CALDESC:Events for San Antonio Irrigation Association
REFRESH-INTERVAL;VALUE=DURATION:PT1H
X-Robots-Tag:noindex
X-PUBLISHED-TTL:PT1H
BEGIN:VTIMEZONE
TZID:America/Chicago
BEGIN:DAYLIGHT
TZOFFSETFROM:-0600
TZOFFSETTO:-0500
TZNAME:CDT
DTSTART:20260308T080000
END:DAYLIGHT
BEGIN:STANDARD
TZOFFSETFROM:-0500
TZOFFSETTO:-0600
TZNAME:CST
DTSTART:20261101T070000
END:STANDARD
END:VTIMEZONE
BEGIN:VEVENT
DTSTART;TZID=America/Chicago:20260606T140000
DTEND;TZID=America/Chicago:20260606T180000
DTSTAMP:20260424T055651
CREATED:20260420T035921Z
LAST-MODIFIED:20260420T035921Z
UID:2981-1780754400-1780768800@sanantonioia.org
SUMMARY:Casino Night - Member Appreciation
DESCRIPTION:Join us at Mr. Jim’s Trading Post from 2pm – 6pm \nat 7393 US Hwy 87 E\, China Grove\, TX 78263 \nEnjoy delicious food\, network with other members\, play exciting casino games with provided tickets\, and you might just walk away with some amazing prizes. \nIMPORTANT: You must RSVP for this event
URL:http://sanantonioia.org/event/casino-night-member-appreciation/
LOCATION:Mr. Jim’s Trading Post\, 7393 US Hwy 87 E\, China Grove\, TX\, 78263\, United States
ORGANIZER;CN="SAIA":MAILTO:info@sanantonioia.org
END:VEVENT
END:VCALENDAR