BEGIN:VCALENDAR
VERSION:2.0
PRODID:-//San Antonio Irrigation Association - ECPv6.14.2//NONSGML v1.0//EN
CALSCALE:GREGORIAN
METHOD:PUBLISH
X-WR-CALNAME:San Antonio Irrigation Association
X-ORIGINAL-URL:http://sanantonioia.org
X-WR-CALDESC:Events for San Antonio Irrigation Association
REFRESH-INTERVAL;VALUE=DURATION:PT1H
X-Robots-Tag:noindex
X-PUBLISHED-TTL:PT1H

BEGIN:VEVENT
DTSTART;TZID=America/Chicago:20260423T064100
DTEND;TZID=America/Chicago:20231201T000000
DTSTAMP:20260423T064100
CREATED:20240208T023033Z
LAST-MODIFIED:20240208T023033Z
UID:1786-0-1701388800@sanantonioia.org
SUMMARY:2023 Irrigation Show & Education Week
DESCRIPTION:2023 Irrigation Show
URL:http://sanantonioia.org/event/2023-irrigation-show-education-week/
LOCATION:San Antonio Convention Center\, 900 E Market St\, San Antonio\, TX 78205\, San Antonio\, TX\, 78205\, United States
END:VEVENT
END:VCALENDAR